BEGIN:VCALENDAR
VERSION:2.0
PRODID:-//SVP Hettlingen //NONSGML Events //EN
CALSCALE:GREGORIAN
X-WR-CALNAME:SVP Hettlingen
BEGIN:VEVENT
CREATED:20250509T084806Z
UID:2235
DTEND:20260914T220000
DTSTART:20260914T193000
DTSTAMP:20260419T122208Z
LOCATION:Mehrzweckhalle\, Hettlingen
DESCRIPTION:
SUMMARY:Gemeindeversammlung
ORGANIZER:Gemeinderat
URL;VALUE=URI:https://www.svp-hettlingen.ch/termine/gemeindeversammlung2/
TRANSP:OPAQUE
END:VEVENT
END:VCALENDAR
