BEGIN:VCALENDAR
VERSION:2.0
PRODID:-//SVP Hettlingen //NONSGML Events //EN
CALSCALE:GREGORIAN
X-WR-CALNAME:SVP Hettlingen
BEGIN:VEVENT
CREATED:20250509T085210Z
UID:2237
DTEND:20261130T220000
DTSTART:20261130T193000
DTSTAMP:20260421T105150Z
LOCATION:Mehrzweckhalle\, Hettlingen
DESCRIPTION:
SUMMARY:Gemeindeversammlung
ORGANIZER:Gemeinderat
URL;VALUE=URI:https://www.svp-hettlingen.ch/termine/gemeindeversammlung3/
TRANSP:OPAQUE
END:VEVENT
END:VCALENDAR
